Workbook
Name table: [1]КЛ!#REF!

Sheet КК
C2: Наименование организации:
A4: № строки лота | B4: Код ЕНС | C4: Наименование ресурса | D4: ЕИ | E4: Лот кол-во | F4: Наименование Товара по предложению (особые характеристики в случае аналога) | G4: Контрагент краткое наименование | H4: Предлагаемый аналог | I4: Производитель | J4: Срок поставки (к/д) | K4: Условия оплаты | L4: Условия поставки (Инкотермс 2010) | M4: Доп. информация | N4: Кол-во | O4: Цена без НДС валюта
A6: 1 | B6: =[2]Лист1!B8 -> 1801008 | C6: =[2]Лист1!C8 -> Болт М10х40 кл.міцності 5.8 ДСТУ ГОСТ 7805:2008 | D6: =[2]Лист1!D8 -> кг | E6: =[2]Лист1!E8 -> 8 | N6: =E6 -> 8
A7: 2 | B7: =[2]Лист1!B9 -> 1801010 | C7: =[2]Лист1!C9 -> Болт М10х55 кл.міцності 5.8 ДСТУ ГОСТ 7805:2008 | D7: =[2]Лист1!D9 -> кг | E7: =[2]Лист1!E9 -> 10 | N7: =E7 -> 10
A8: 3 | B8: =[2]Лист1!B10 -> 1801013 | C8: =[2]Лист1!C10 -> Болт М10х70 кл.міцності 5.8 ДСТУ ГОСТ 7805:2008 | D8: =[2]Лист1!D10 -> кг | E8: =[2]Лист1!E10 -> 20 | N8: =E8 -> 20
A9: 4 | B9: =[2]Лист1!B11 -> 1801022 | C9: =[2]Лист1!C11 -> Болт М12х50 кл.міцності 5.8 ДСТУ ГОСТ 7805:2008 /ДСТУ ГОСТ 7798:2008 / DIN 931/ DIN933 | D9: =[2]Лист1!D11 -> кг | E9: =[2]Лист1!E11 -> 20 | N9: =E9 -> 20
A10: 5 | B10: =[2]Лист1!B12 -> 1801024 | C10: =[2]Лист1!C12 -> Болт М12х70 кл.міцності 5.8 ДСТУ ГОСТ 7805:2008 /ДСТУ ГОСТ 7798:2008 / DIN 931/ DIN933 | D10: =[2]Лист1!D12 -> кг | E10: =[2]Лист1!E12 -> 75 | N10: =E10 -> 75
A11: 6 | B11: =[2]Лист1!B13 -> 1801028 | C11: =[2]Лист1!C13 -> Болт М16х100 кл.міцності 5.8 ДСТУ ГОСТ 7805:2008 /ДСТУ ГОСТ 7798:2008 / DIN 931/ DIN933 | D11: =[2]Лист1!D13 -> кг | E11: =[2]Лист1!E13 -> 50 | N11: =E11 -> 50
A12: 7 | B12: =[2]Лист1!B14 -> 1801038 | C12: =[2]Лист1!C14 -> Болт М16х60 кл.міцності 5.8 ДСТУ ГОСТ 7805:2008 /ДСТУ ГОСТ 7798:2008 / DIN 931/ DIN933 | D12: =[2]Лист1!D14 -> кг | E12: =[2]Лист1!E14 -> 20 | N12: =E12 -> 20
A13: 8 | B13: =[2]Лист1!B15 -> 1801039 | C13: =[2]Лист1!C15 -> Болт М16х70 кл.міцності 5.8 ДСТУ ГОСТ 7805:2008 /ДСТУ ГОСТ 7798:2008 / DIN 931/ DIN933 | D13: =[2]Лист1!D15 -> кг | E13: =[2]Лист1!E15 -> 75 | N13: =E13 -> 75
A14: 9 | B14: =[2]Лист1!B16 -> 1801040 | C14: =[2]Лист1!C16 -> Болт М16х75 кл.міцності 5.8 ДСТУ ГОСТ 7805:2008 /ДСТУ ГОСТ 7798:2008 / DIN 931/ DIN933 | D14: =[2]Лист1!D16 -> кг | E14: =[2]Лист1!E16 -> 55 | N14: =E14 -> 55
A15: 10 | B15: =[2]Лист1!B17 -> 1801060 | C15: =[2]Лист1!C17 -> Болт М20х80 кл.міцності 5.8 ДСТУ ГОСТ 7805:2008 /ДСТУ ГОСТ 7798:2008 / DIN 931/ DIN933 | D15: =[2]Лист1!D17 -> кг | E15: =[2]Лист1!E17 -> 30 | N15: =E15 -> 30
A16: 11 | B16: =[2]Лист1!B18 -> 1801061 | C16: =[2]Лист1!C18 -> Болт М20х90 кл.міцності 5.8 ДСТУ ГОСТ 7805:2008 /ДСТУ ГОСТ 7798:2008 / DIN 931/ DIN933 | D16: =[2]Лист1!D18 -> кг | E16: =[2]Лист1!E18 -> 50 | N16: =E16 -> 50
A17: 12 | B17: =[2]Лист1!B19 -> 1801086 | C17: =[2]Лист1!C19 -> Болт М24х200 кл.міцності 5.8 ДСТУ ГОСТ 7805:2008 | D17: =[2]Лист1!D19 -> кг | E17: =[2]Лист1!E19 -> 60 | N17: =E17 -> 60
... A39: 34 | B39: =[2]Лист1!B41 -> 1814011 | C39: =[2]Лист1!C41 -> Саморіз для гіпсокартону по дереву 3,5х25, фосфатований (50шт/уп) | D39: =[2]Лист1!D41 -> уп | E39: =[2]Лист1!E41 -> 5 | N39: =E39 -> 5
N40: =E40 -> 0
N41: =E41 -> 0
N47: =E47 -> 0
N48: =E48 -> 0
N49: =E49 -> 0
N50: =E50 -> 0
N51: =E51 -> 0
N55: =E55 -> 0
N56: =E56 -> 0
N57: =E57 -> 0
N58: =E58 -> 0
N63: =E63 -> 0
... N164: =E164 -> 0
A168: 2 | N168: =E168 -> 0
A169: 2 | N169: =E169 -> 0
A170: 2 | N170: =E170 -> 0
A171: 2
A172: 2
A173: 2
A174: 2
A175: 2
N176: =E176 -> 0
N177: =E177 -> 0
N178: =E178 -> 0
N179: =E179 -> 0
...
